BEGIN:VCALENDAR
VERSION:2.0
PRODID:-//Clif Marsiglio for Indiana - ECPv6.15.20//NONSGML v1.0//EN
CALSCALE:GREGORIAN
METHOD:PUBLISH
X-ORIGINAL-URL:https://clifmars.com
X-WR-CALDESC:Events for Clif Marsiglio for Indiana
REFRESH-INTERVAL;VALUE=DURATION:PT1H
X-Robots-Tag:noindex
X-PUBLISHED-TTL:PT1H
BEGIN:VTIMEZONE
TZID:UTC
BEGIN:STANDARD
TZOFFSETFROM:+0000
TZOFFSETTO:+0000
TZNAME:UTC
DTSTART:20250101T000000
END:STANDARD
END:VTIMEZONE
BEGIN:VEVENT
DTSTART;TZID=UTC:20260315T130000
DTEND;TZID=UTC:20260315T150000
DTSTAMP:20260426T031043
CREATED:20260305T051816Z
LAST-MODIFIED:20260311T164838Z
UID:50191-1773579600-1773586800@clifmars.com
SUMMARY:Lockerbie/Cole-Noble Community Canvas
DESCRIPTION:Join us on Sunday\, March 15 for a community canvass in the Lockerbie Square and Cole-Noble neighborhoods. \nWe’ll meet at Red Door Café at 1:00 PM to get organized\, review routes\, and pair people up before heading out to talk with neighbors across District 46. \nNo experience is required. If this is your first time canvassing\, we’ll pair you with someone who can walk you through everything. It’s simply about having real conversations with people in the neighborhood about what matters to them and the future of our community. \nCome meet great people\, get some fresh air\, and help us connect with neighbors across downtown.
URL:https://clifmars.com/event/lockerbie-cole-noble-community-canvas/
LOCATION:Red Door Cafe\, 237 N East St.\, Indianapolis\, IN\, 46204\, United States
ATTACH;FMTTYPE=image/png:https://clifmars.com/wp-content/uploads/2026/03/Upcoming_March_Canvassing_Events_Post_-_1.png
END:VEVENT
BEGIN:VEVENT
DTSTART;TZID=UTC:20260319T180000
DTEND;TZID=UTC:20260319T200000
DTSTAMP:20260426T031043
CREATED:20260306T224227Z
LAST-MODIFIED:20260317T160319Z
UID:50221-1773943200-1773950400@clifmars.com
SUMMARY:Art is Healing
DESCRIPTION:Join us on March 19 at the Red Barn Arts Collective in Irvington for an evening of creativity\, connection\, and community. \nThis relaxed gathering is a chance to step away from the daily noise and spend some time creating together. Whether you want to paint\, sketch\, make posters\, or simply connect with neighbors\, everyone is welcome. \nSnacks\, refreshments\, paint\, brushes\, and paper will be provided. \nIf you’d like to create something specific — on poster board\, canvas\, shirts\, or other materials — feel free to bring those along and make something uniquely your own. \nCome spend the evening creating\, connecting\, and checking in with one another.
URL:https://clifmars.com/event/art-is-healing/
LOCATION:Red Barn Arts Collective\, 6015 Bonna Ave\, Indianapolis\, IN\, 46219\, United States
ATTACH;FMTTYPE=image/png:https://clifmars.com/wp-content/uploads/2026/03/March_19_Art_Is_Healing_Event_1920_x_1080_2_px.png
END:VEVENT
BEGIN:VEVENT
DTSTART;TZID=UTC:20260321T093000
DTEND;TZID=UTC:20260321T230000
DTSTAMP:20260426T031043
CREATED:20260317T143711Z
LAST-MODIFIED:20260317T143903Z
UID:50291-1774085400-1774134000@clifmars.com
SUMMARY:Coffee with Clif - Lincoln Lane Coffee Company
DESCRIPTION:Come get to know Clif every Saturday at one of the amazing coffee shops in District 46. Find out what work he’s currently doing in his community and how you can get involved. Ask him why he’s running for State Senate and why he wants to change how things are run at the Statehouse. All are welcome! \nAfter coffee we will head out canvassing in the community for all who would like to join!
URL:https://clifmars.com/event/coffee-with-clif-lincoln-lane-coffee-company/
LOCATION:Lincoln Lane Coffee Company\, 516 Lincoln St.\, Indianapolis\, IN\, 46203\, United States
ATTACH;FMTTYPE=image/png:https://clifmars.com/wp-content/uploads/2026/03/Reformat_of_Meet_and_Greet_Helm_Coffee2.png
END:VEVENT
BEGIN:VEVENT
DTSTART;TZID=UTC:20260321T110000
DTEND;TZID=UTC:20260321T130000
DTSTAMP:20260426T031043
CREATED:20260305T052246Z
LAST-MODIFIED:20260311T165419Z
UID:50194-1774090800-1774098000@clifmars.com
SUMMARY:Bates Hendricks Community Canvass
DESCRIPTION:Join us on Saturday\, March 21 for a community canvass in the Bates-Hendricks neighborhood. \nWe’ll meet at Lincoln Lane Coffee Company at 11:00 AM to organize routes\, pair volunteers together\, and get everyone ready before heading out to talk with neighbors across the community. \nNo prior canvassing experience is needed. If it’s your first time\, we’ll pair you with someone who can walk you through everything. The goal is simple: have real conversations with neighbors about the future of our communities and the issues that matter most to them. \nCome meet great people\, enjoy a good cup of coffee\, and help us connect with neighbors across District 46.
URL:https://clifmars.com/event/bates-hendricks-community-canvass/
LOCATION:Lincoln Lane Coffee Company\, 516 Lincoln St.\, Indianapolis\, IN\, 46203\, United States
ATTACH;FMTTYPE=image/png:https://clifmars.com/wp-content/uploads/2026/03/Upcoming_March_Canvassing_Events_Post_-_2.png
END:VEVENT
BEGIN:VEVENT
DTSTART;TZID=UTC:20260322T130000
DTEND;TZID=UTC:20260322T150000
DTSTAMP:20260426T031043
CREATED:20260305T052532Z
LAST-MODIFIED:20260311T165553Z
UID:50198-1774184400-1774191600@clifmars.com
SUMMARY:Near Southside Community Canvass
DESCRIPTION:Join us on Sunday\, March 22 for a community canvass in the Near Southside neighborhood. \nWe’ll meet at Normal Coffee at 1:00 PM to organize routes\, pair volunteers together\, and get everyone ready before heading out to talk with neighbors across the community. \nNo prior canvassing experience is required. If this is your first time\, we’ll pair you with someone who can walk you through everything. The goal is simple: real conversations with neighbors about what’s happening in their community and the future of District 46. \nCome meet great people\, grab a cup of coffee\, and help us connect with neighbors across the Near Southside.
URL:https://clifmars.com/event/near-southside-community-canvass/
LOCATION:Normal Coffee\, 1125 Cruft St\, Indianapolis\, IN\, 46203\, United States
ATTACH;FMTTYPE=image/png:https://clifmars.com/wp-content/uploads/2026/03/Upcoming_March_Canvassing_Events_Post_-_2.png
END:VEVENT
BEGIN:VEVENT
DTSTART;TZID=UTC:20260328T120000
DTEND;TZID=UTC:20260328T170000
DTSTAMP:20260426T031043
CREATED:20260305T052913Z
LAST-MODIFIED:20260324T172405Z
UID:50201-1774699200-1774717200@clifmars.com
SUMMARY:No Kings at the Statehouse!
DESCRIPTION:No kings. No crowns. No one above the people. I’ll be at the No Kings 3 rally this Saturday\, standing with you\, not above you. You can find me and our team down Candidate Row\, and I’ll be speaking around 2:35pm. Come through. Stay loud. Stay present. Stop by our booth\, grab a button\, and if you’re in District 46\, take a yard sign home with you. More importantly\, take time to connect with the community groups out there doing the real\, everyday work to make people’s lives better. That’s where the movement lives. This campaign\, this movement\, isn’t powered by PACs or corporate money. It never will be. It’s built by people showing up\, having conversations\, and investing in something bigger than themselves. If you’re able\, any donation helps us keep pushing forward. By the people. For the people. Because of the people. Let’s keep going.
URL:https://clifmars.com/event/no-kings-at-the-statehouse/
LOCATION:Indiana Statehouse\, 200 W Washington St\, Indianapolis\, IN\, 46204\, United States
ATTACH;FMTTYPE=image/png:https://clifmars.com/wp-content/uploads/2026/03/Copy_of_CLIF_MARSIGLIO.png
END:VEVENT
BEGIN:VEVENT
DTSTART;TZID=UTC:20260329T130000
DTEND;TZID=UTC:20260329T150000
DTSTAMP:20260426T031043
CREATED:20260305T053118Z
LAST-MODIFIED:20260305T053454Z
UID:50204-1774789200-1774796400@clifmars.com
SUMMARY:Renaissance Place Community Canvass
DESCRIPTION:
URL:https://clifmars.com/event/renaissance-place-community-canvass/
LOCATION:Quills Coffee\, 941 Meridian St.\, Indianapolis\, IN\, 46204\, United States
ATTACH;FMTTYPE=image/png:https://clifmars.com/wp-content/uploads/2026/03/Upcoming_March_Canvassing_Events_Post_-_2.png
END:VEVENT
BEGIN:VEVENT
DTSTART;TZID=UTC:20260404T093000
DTEND;TZID=UTC:20260404T110000
DTSTAMP:20260426T031043
CREATED:20260324T172103Z
LAST-MODIFIED:20260324T172103Z
UID:50298-1775295000-1775300400@clifmars.com
SUMMARY:Coffee with Clif - Mansion Society
DESCRIPTION:Come get to know Clif every Saturday at one of the amazing coffee shops in District 46. Find out what work he’s currently doing in his community and how you can get involved. Ask him why he’s running for State Senate and why he wants to change how things are run at the Statehouse. All are welcome!\nAfter coffee we will head out canvassing in the community for all who would like to join!
URL:https://clifmars.com/event/coffee-with-clif-mansion-society/
LOCATION:Mansion Society\, 202 Steeples Blvd\, Indianapolis\, IN\, 46222\, United States
ATTACH;FMTTYPE=image/png:https://clifmars.com/wp-content/uploads/2026/03/Reformat_of_Meet_and_Greet_Mansion_Society.png
END:VEVENT
BEGIN:VEVENT
DTSTART;TZID=UTC:20260411T110000
DTEND;TZID=UTC:20260411T140000
DTSTAMP:20260426T031043
CREATED:20260326T180150Z
LAST-MODIFIED:20260326T180150Z
UID:50307-1775905200-1775916000@clifmars.com
SUMMARY:Clif Marsiglio's Birthday Meet and Greet
DESCRIPTION:Please join us for Clif’s Birthday Celebration Meet & Greet. Whether you are a long time friend of Clif or just meeting him for the first time\, all are welcome! We will provide some food and drinks but please bring a dish to share if you like! We look forward to celebrating and talking about Clif’s future plans for District 46!
URL:https://clifmars.com/event/clif-marsiglios-birthday-meet-and-greet/
LOCATION:Highland Park\, 1100 E New York St.\, Indianapolis\, IN\, 46202\, United States
ATTACH;FMTTYPE=image/png:https://clifmars.com/wp-content/uploads/2026/03/Clif_Birthday_Flyer.png
END:VEVENT
BEGIN:VEVENT
DTSTART;TZID=UTC:20260416T190000
DTEND;TZID=UTC:20260416T200000
DTSTAMP:20260426T031043
CREATED:20260413T031859Z
LAST-MODIFIED:20260415T134652Z
UID:50334-1776366000-1776369600@clifmars.com
SUMMARY:Virtual Town Hall
DESCRIPTION:Join us for a live conversation with Clif Marsiglio\, candidate for Indiana State Senate District 46. This is your opportunity to ask questions directly and hear about the vision for our district’s future. \nAs an educator and long-time community advocate on Indianapolis’s Near Eastside\, Clif is committed to a data-driven approach to public safety\, infrastructure\, and community-led growth. We will be discussing the issues that matter most to you—from pedestrian safety and public transit to government transparency and sustainable development. \nEvent Details:\n\n\nWhen: Thursday\, April 16 \n\n\nTime: 7:00 PM ET \n\n\nWhere: Streaming LIVE at ProgressiveIndiana.Net \n\n\nAlso Simulcasting On: Facebook Live and YouTube (@progressiveindiananetwork) \n\n\nHave a question? We want to hear from you! You can submit your questions in advance or during the stream. Use the link below or the QR code on our event flyer or visit the stream link to participate in the Q&A. \n\nhttps://forms.gle/os3Vo4uXJxEgPEF97
URL:https://clifmars.com/event/virtual-town-hall/
LOCATION:IN
ATTACH;FMTTYPE=image/jpeg:https://clifmars.com/wp-content/uploads/2026/04/IMG_6633.jpg
END:VEVENT
END:VCALENDAR