BEGIN:VCALENDAR
VERSION:2.0
PRODID:-//Clif Marsiglio for Indiana - ECPv6.15.20//NONSGML v1.0//EN
CALSCALE:GREGORIAN
METHOD:PUBLISH
X-WR-CALNAME:Clif Marsiglio for Indiana
X-ORIGINAL-URL:https://clifmars.com
X-WR-CALDESC:Events for Clif Marsiglio for Indiana
REFRESH-INTERVAL;VALUE=DURATION:PT1H
X-Robots-Tag:noindex
X-PUBLISHED-TTL:PT1H
BEGIN:VTIMEZONE
TZID:UTC
BEGIN:STANDARD
TZOFFSETFROM:+0000
TZOFFSETTO:+0000
TZNAME:UTC
DTSTART:20250101T000000
END:STANDARD
END:VTIMEZONE
BEGIN:VEVENT
DTSTART;TZID=UTC:20260131T140000
DTEND;TZID=UTC:20260131T160000
DTSTAMP:20260426T031150
CREATED:20260125T062655Z
LAST-MODIFIED:20260130T045757Z
UID:49824-1769868000-1769875200@clifmars.com
SUMMARY:Coffee With Clif - Coat Check Coffee
DESCRIPTION:Coffee with Clif \nSaturday\, January 31\, 2026 \nCoat Check Coffee \n401 E Michigan St\, Indianapolis\, IN 46204 \nPull up a chair and have a real conversation with Clif Marsiglio. \nCoffee with Clif is a weekly\, informal meet-up at neighborhood coffee shops across District 46. No speeches\, no stage\, no velvet rope. Just coffee and conversation. \nHear about the work Clif is doing in the community right now\, what he’s seeing on the ground\, and where the Statehouse keeps getting it wrong. Ask why he’s running for State Senate\, what he wants to change\, and how you can be part of it. \nCurious\, skeptical\, supportive\, undecided — all are welcome. If you drink coffee\, you qualify.
URL:https://clifmars.com/event/coffee-with-a-clif/
LOCATION:Coat Check Coffee\, 401 E Michigan St\, Indianapolis\, IN\, 46204\, United States
ATTACH;FMTTYPE=image/png:https://clifmars.com/wp-content/uploads/2026/01/Meet-and-Greet.png
END:VEVENT
BEGIN:VEVENT
DTSTART;TZID=UTC:20260125T153000
DTEND;TZID=UTC:20260125T170000
DTSTAMP:20260426T031150
CREATED:20260125T054356Z
LAST-MODIFIED:20260125T062121Z
UID:49818-1769355000-1769360400@clifmars.com
SUMMARY:HoosLeft This Week (PodCast)
DESCRIPTION:Sunday Morning\, Jan 25\, 2026 I will be the guest on Progressive Indiana Network‘s HoosLeft podcast.\n\n\n—\nJoin host Scott Aaron Rogers with guests Clif Marsiglio and Lori Ecker for HoosLeft This Week. We’ll discuss the week’s top Indiana news plus US & int’l stories through a Hoosier lens.\n\n\nhttp://ProgressiveIndiana.Net\nfacebook.com/events/889991426963406/\nyoutube.com/live/J-txq14n-cU
URL:https://clifmars.com/event/hoosleft-this-week-podcast/
ATTACH;FMTTYPE=image/png:https://clifmars.com/wp-content/uploads/2026/01/Gemini_Generated_Image_khld7rkhld7rkhld-1.png
END:VEVENT
END:VCALENDAR